BEGIN:VCALENDAR
VERSION:2.0
PRODID:-//ChamberMaster//Event Calendar 2.0//EN
METHOD:PUBLISH
X-PUBLISHED-TTL:P3D
REFRESH-INTERVAL:P3D
CALSCALE:GREGORIAN
BEGIN:VEVENT
DTSTART:20191026T003000Z
DTEND:20191026T033000Z
X-MICROSOFT-CDO-ALLDAYEVENT:FALSE
SUMMARY:YMCA Harvest Festival
DESCRIPTION:Join us for a safe\, family-friendly event that is sure to be fun for all ages! \n\n$10 per family includes Trunk or Treat\, 1 jumper ticket\, and a free snack! Enjoy face painting\, dancing\, raffles\, prizes for best costume and best truck\, and much more!
X-ALT-DESC;FMTTYPE=text/html:Join us for a safe\, family-friendly event that is sure to be fun for all ages!&nbsp\;<br />\n$10 per family includes Trunk or Treat\, 1 jumper ticket\, and a free snack! Enjoy face painting\, dancing\, raffles\, prizes for best costume and best truck\, and much more!
LOCATION:East Whittier YMCA Family Center 15740 E. Starbuck St. Whittier\, CA 90603
UID:e.623.5767
SEQUENCE:3
DTSTAMP:20260420T003454Z
URL:https://business.sfschamber.com/events/details/ymca-harvest-festival-5767
END:VEVENT

END:VCALENDAR
