BEGIN:VCALENDAR
VERSION:2.0
PRODID:-//ChamberMaster//Event Calendar 2.0//EN
METHOD:PUBLISH
X-PUBLISHED-TTL:P3D
REFRESH-INTERVAL:P3D
CALSCALE:GREGORIAN
BEGIN:VEVENT
DTSTART:20260430T160000Z
DTEND:20260430T230000Z
X-MICROSOFT-CDO-ALLDAYEVENT:FALSE
SUMMARY:The Inaugural Big 4 Summit
DESCRIPTION:Cracking the Code\n\nThe cities of Commerce\, Industry\, Santa Fe Springs and Vernon - The Big 4\, invite you to attend a groundbreaking event that will bring together CEOs\, brokers\, retailers\, logistics leaders\, manufacturers\, elected officials and community leaders from throughout Southern California as we build a pathway towards a more business-friendly Southern California. \n\nJoin us as the region comes together to Crack the Code in keeping and expanding business and industry in California. \n\nClick Here for more information
X-ALT-DESC;FMTTYPE=text/html:Cracking the Code<br />\nThe cities of Commerce\, Industry\, Santa Fe Springs and Vernon - The Big 4\, invite you to attend a groundbreaking event that will bring together CEOs\, brokers\, retailers\, logistics leaders\, manufacturers\, elected officials and community leaders from throughout Southern California as we build a pathway towards a more business-friendly Southern California.&nbsp\;<br />\nJoin us as the region comes together to Crack the Code in keeping and expanding business and industry in California.&nbsp\;<br />\nClick <a href="https://citiesbuilt4business.com/events/" target="_blank">Here</a> for more information
LOCATION:The Clarke Estate
UID:e.623.10811
SEQUENCE:3
DTSTAMP:20260421T194941Z
URL:https://business.sfschamber.com/events/details/the-inaugural-big-4-summit-10811
END:VEVENT

END:VCALENDAR
