BEGIN:VCALENDAR
VERSION:2.0
PRODID:-//ChamberMaster//Event Calendar 2.0//EN
METHOD:PUBLISH
X-PUBLISHED-TTL:P3D
REFRESH-INTERVAL:P3D
CALSCALE:GREGORIAN
BEGIN:VEVENT
DTSTART:20191007T160000Z
DTEND:20191008T010000Z
X-MICROSOFT-CDO-ALLDAYEVENT:FALSE
SUMMARY:Tepeyac Restaurant & Tequila Sports Bar Job Fair
DESCRIPTION:Job Fair\, Oct. 7\, 2019  - Seeking individuals who want to work in a restaurant environment.  Compensation based on experience. Openings for: Line Cooks\, Servers\, Bartenders\, Cashier/Hostess\, Busser\, Dishwasher
X-ALT-DESC;FMTTYPE=text/html:Job Fair\, Oct. 7\, 2019&nbsp\; - Seeking individuals who want to work in a restaurant environment.&nbsp\; Compensation based on experience.&nbsp\;Openings for: Line Cooks\, Servers\, Bartenders\, Cashier/Hostess\, Busser\, Dishwasher<br />\n<br />\n&nbsp\;
LOCATION:Tepeyac Restaurant & Tequila Sports Bar 13131 Crossroads Parkway So. City of Industry\, CA 91746 562-695-2277
UID:e.623.5768
SEQUENCE:3
DTSTAMP:20260420T004009Z
URL:https://business.sfschamber.com/events/details/tepeyac-restaurant-tequila-sports-bar-job-fair-5768
END:VEVENT

END:VCALENDAR
