BEGIN:VCALENDAR
VERSION:2.0
PRODID:-//ChamberMaster//Event Calendar 2.0//EN
METHOD:PUBLISH
X-PUBLISHED-TTL:P3D
REFRESH-INTERVAL:P3D
CALSCALE:GREGORIAN
BEGIN:VEVENT
DTSTART:20191107T173000Z
DTEND:20191107T200000Z
X-MICROSOFT-CDO-ALLDAYEVENT:FALSE
SUMMARY:Securitas Presents: Situational Awareness & Homeless Seminar
DESCRIPTION:The impact of the growing homeless population in our community continues to be a major challenge and directly affects the safety of commercial and residential properties. According to the Los Angeles County Homeless Services Authority\, nearly 60\,000 people live without permanent shelter on a given night in LA County. Securitas will host a Situational Awareness & Homeless Seminar designed to highlight regulations\, strategies\, and solutions to maintain safety.\n\n \n\nSecuritas is proud to present this roundtable discussion\, led by Basim Abu-Hamid. Basim serves as a Global Emergency Response Team Manager for Securitas. He has provided security consulting and has conducted training on various security related topics such as terrorism\, situational awareness\, active shooter\, tactical communication\, hostage negotiation\, kidnap prevention\, disaster preparedness and tactical emergency medicine.\n\n \n\nThe event is free to attend and will take place on Thursday November 7\, 2019 from 10am-Noon at the Porsche Experience Center in Carson\, CA. Please click here to register: https://securitas-situational-awareness-homeless-seminar.eventbrite.com
X-ALT-DESC;FMTTYPE=text/html:<span style="font-size:12px"><span style="font-family:arial\,helvetica\,sans-serif">The impact of the growing homeless population in our community continues to be a major challenge and directly affects the safety of commercial and residential properties. According to the Los Angeles County Homeless Services Authority\, nearly 60\,000 people live without permanent shelter on a given night in LA County. Securitas will host a Situational Awareness &amp\; Homeless Seminar designed to highlight regulations\, strategies\, and solutions to maintain safety.<br />\n&nbsp\;<br />\nSecuritas is proud to present this roundtable discussion\, led by Basim Abu-Hamid. Basim serves as a Global Emergency Response Team Manager for Securitas. He has provided security consulting and has conducted training on various security related topics such as terrorism\, situational awareness\, active shooter\, tactical communication\, hostage negotiation\, kidnap prevention\, disaster preparedness and tactical emergency medicine.<br />\n&nbsp\;<br />\nThe event is free to attend and will take place on Thursday November 7\, 2019 from 10am-Noon at the Porsche Experience Center in Carson\, CA. Please click here to register: </span></span>https://securitas-situational-awareness-homeless-seminar.eventbrite.com
LOCATION:Porsche Experience Center 19800 South Main Street Carson\, CA 90745
UID:e.623.5893
SEQUENCE:3
DTSTAMP:20260419T212256Z
URL:https://business.sfschamber.com/events/details/securitas-presents-situational-awareness-homeless-seminar-5893
END:VEVENT

END:VCALENDAR
