BEGIN:VCALENDAR
VERSION:2.0
PRODID:-//ChamberMaster//Event Calendar 2.0//EN
METHOD:PUBLISH
X-PUBLISHED-TTL:P3D
REFRESH-INTERVAL:P3D
CALSCALE:GREGORIAN
BEGIN:VEVENT
DTSTART:20200109T163000Z
DTEND:20200109T173000Z
X-MICROSOFT-CDO-ALLDAYEVENT:FALSE
SUMMARY:POSTPONED: Youth Education Meeting
DESCRIPTION:THIS MEETING HAS BEEN POSTPONED AS THE COMMITTEE WILL BE TOURING A COMPANY LATER IN THE MONTH\n\nThe purpose of this committee is to foster partnerships between the business and educational communities of Santa Fe Springs in order to enhance the educational programs.  The committee is for school principals\, school administrators\, college administrators\, educators\, those who work with youth and business members.
X-ALT-DESC;FMTTYPE=text/html:<div style="color: gray\;"><span style="color:#FF0000\;"><strong>THIS MEETING HAS BEEN POSTPONED AS THE COMMITTEE WILL BE TOURING A COMPANY LATER IN THE MONTH</strong></span><br />\n<span style="color: rgb(0\, 0\, 0)\;">The purpose of this committee is to foster partnerships between the business and educational communities of Santa Fe Springs in order to enhance the educational programs.&nbsp\; The committee is for school principals\, school administrators\, college administrators\, educators\, those who work with youth and business members.</span><br />\n<br />\n&nbsp\;</div>\n
LOCATION:SFS Chamber of Commerce 12016 E. Telegraph Rd. #100 Santa Fe Springs
UID:e.623.5745
SEQUENCE:3
DTSTAMP:20260419T193812Z
URL:https://business.sfschamber.com/events/details/postponed-youth-education-meeting-5745
END:VEVENT

END:VCALENDAR
