BEGIN:VCALENDAR
VERSION:2.0
PRODID:-//ChamberMaster//Event Calendar 2.0//EN
METHOD:PUBLISH
X-PUBLISHED-TTL:P3D
REFRESH-INTERVAL:P3D
CALSCALE:GREGORIAN
BEGIN:VEVENT
DTSTART:20190418T183000Z
DTEND:20190418T200000Z
X-MICROSOFT-CDO-ALLDAYEVENT:FALSE
SUMMARY:Networking @ Noon April 2019
DESCRIPTION:Networking @ Noon sponsored by Art Fest\n\n\n\nJoin us for Business To Business Networking\, \n\nIntroductions and a Delicious Lunch!  Lunch will be \n\ncatered by Kung Pao Bowl.\n\n\n\nOur Networking @ Noon events are designed to provide exposure for businesses through referrals.  We change the venue every month to keep it fresh\, bring in new contacts\, and feature different restaurants.  There are always new faces to meet and plenty of referrals and opportunities to go around.\n\n\n\nPrice includes lunch\, beverage\, tax & tip plus lots of networking opportunities!\n\nPre-registration is now closed but you are welcome to regster at the door.
X-ALT-DESC;FMTTYPE=text/html:<p><span style="font-family: comic sans ms\;"><span style="font-size: 16px\;">Networking @ Noon sponsored by Art Fest</span></span><br />\n<br />\n<span style="font-family: comic sans ms\;"><span style="font-size: 16px\;"><span style="font-size: 14px\;">Join us for&nbsp\;Business To Business Networking\,&nbsp\;<br />\nIntroductions and&nbsp\;a Delicious Lunch!&nbsp\; Lunch will be&nbsp\;<br />\ncatered by Kung Pao Bowl.<br />\n<br />\n<span style="font-size: 14px\;"><font face="Comic Sans MS">Our Networking @ Noon events are designed to provide exposure for businesses through referrals.&nbsp\; We change the venue every month to keep it fresh\, bring in new contacts\, and feature different restaurants.&nbsp\; There are always new faces to meet and plenty of referrals and opportunities to go around.</font></span><br />\n<br />\nPrice includes lunch\, beverage\, tax &amp\; tip plus lots of networking opportunities!</span></span></span><br />\n<strong><span style="color:#FF0000\;">Pre-registration is now closed but you are welcome to regster at the door.</span></strong><br />\n&nbsp\;</p>\n
LOCATION:The Clarke Estate 10211 Pioneer Blvd\, SFS (Corner of Telegraph/Pioneer behind the Post Office and Pool)
UID:e.623.4623
SEQUENCE:3
DTSTAMP:20260420T095617Z
URL:https://business.sfschamber.com/events/details/networking-noon-april-2019-04-18-2019-4623
END:VEVENT

END:VCALENDAR
