BEGIN:VCALENDAR
VERSION:2.0
PRODID:-//ChamberMaster//Event Calendar 2.0//EN
METHOD:PUBLISH
X-PUBLISHED-TTL:P3D
REFRESH-INTERVAL:P3D
CALSCALE:GREGORIAN
BEGIN:VEVENT
DTSTART:20200506T160000Z
DTEND:20200506T170000Z
X-MICROSOFT-CDO-ALLDAYEVENT:FALSE
SUMMARY:Manage Your Business Remotely
DESCRIPTION:With the many changes happening across the country\, it's a particularly difficult time for local businesses.  With this in mind\, Grow with Google will be hosting a special livestream for small businesses.\n\n\n\nDiscover tools\, tips and resources to help you manage your business remotely during the COVID-19 crisis.  Learn how to update critical business information online to keep customers informed\, host virtual meeting and events and access documents from anywhere. \n\n\n\nRegister to tune into this virtual event at: Click here to Register for Livestream
X-ALT-DESC;FMTTYPE=text/html:With the many changes happening across the country\, it&#39\;s a particularly difficult time for local businesses. &nbsp\;With this in mind\, Grow with Google will be hosting a special livestream for small businesses.<br />\n<br />\nDiscover tools\, tips and resources to help you manage your business remotely during the COVID-19 crisis. &nbsp\;Learn how to update critical business information online to keep customers informed\, host virtual meeting and events and access documents from anywhere.&nbsp\;<br />\n<br />\nRegister to tune into this virtual event at:&nbsp\;<span style="font-family:calibri\,sans-serif\;"><span style="font-size:11.0pt\;"><a href="https://events.withgoogle.com/gwg-livestream/registrations/new/">Click here to Register for Livestream</a></span></span>
LOCATION:online at: Click here to Register for Livestream
UID:e.623.7146
SEQUENCE:3
DTSTAMP:20260419T132435Z
URL:https://business.sfschamber.com/events/details/manage-your-business-remotely-7146
END:VEVENT

END:VCALENDAR
