BEGIN:VCALENDAR
VERSION:2.0
PRODID:-//ChamberMaster//Event Calendar 2.0//EN
METHOD:PUBLISH
X-PUBLISHED-TTL:P3D
REFRESH-INTERVAL:P3D
CALSCALE:GREGORIAN
BEGIN:VEVENT
DTSTART:20200512T153000Z
DTEND:20200512T163000Z
X-MICROSOFT-CDO-ALLDAYEVENT:FALSE
SUMMARY:Leads Group Meeting
DESCRIPTION:Leads Groups directly contribute to the economic development of the Santa Fe Springs area by increasing the business and profits of Chamber Member businesses/organizations through structured\, noncompetitive or competitive\, relational networking and the exchange of referrals and leads.\n\n\n\n10 Minutes Business Presentation - Stay Tuned!\n\n\n\n5 Minute "Get to Know" Presentation - Stay Tuned!
X-ALT-DESC;FMTTYPE=text/html:<br />\n<br />\nLeads <span style="letter-spacing:-.05pt\;">Groups</span> <span style="letter-spacing:-.05pt\;">directly</span> <span style="letter-spacing:-.05pt\;">contribute</span> to <span style="letter-spacing:-.05pt\;">the</span> <span style="letter-spacing:-.05pt\;">economic</span> <span style="letter-spacing:-.05pt\;">development</span> <span style="letter-spacing:-.05pt\;">of</span> <span style="letter-spacing:-.1pt\;">the</span> <span style="letter-spacing:-.05pt\;">Santa Fe Springs</span> area by increasing the <span style="letter-spacing:-.05pt\;">business</span> and profits <span style="letter-spacing:-.05pt\;">of</span> <span style="letter-spacing:-.05pt\;">Chamber </span>Member<span style="letter-spacing:-.05pt\;"> businesses/organizations</span> <span style="letter-spacing:-.05pt\;">through</span> <span style="letter-spacing:-.05pt\;">structured\,</span> <span style="letter-spacing:-.05pt\;">noncompetitive</span> or <span style="letter-spacing:-.05pt\;">competitive\,</span> relational <span style="letter-spacing:-.05pt\;">networking </span>and the <span style="letter-spacing:-.05pt\;">exchange</span> <span style="letter-spacing:-.05pt\;">of</span> <span style="letter-spacing:-.05pt\;">referrals</span> and <span style="letter-spacing:-.05pt\;">leads.</span><br />\n<br />\n<span style="font-size: 12pt\;">10 Minutes Business Presentation -&nbsp\;</span><b style="font-size: 16px\;">Stay Tuned!</b><br />\n<br />\n<span style="font-size: 12pt\;">5 Minute &quot\;Get to Know&quot\; Presentation -&nbsp\;</span><b style="font-size: 16px\;">Stay Tuned!</b><br />\n&nbsp\;
LOCATION:Virtual Meeting via Zoom (please contact chamber for more information) mail@sfschamber.com
UID:e.623.7144
SEQUENCE:3
DTSTAMP:20260419T132517Z
URL:https://business.sfschamber.com/events/details/leads-group-meeting-05-12-2020-7144
END:VEVENT

END:VCALENDAR
