BEGIN:VCALENDAR
VERSION:2.0
PRODID:-//ChamberMaster//Event Calendar 2.0//EN
METHOD:PUBLISH
X-PUBLISHED-TTL:P3D
REFRESH-INTERVAL:P3D
CALSCALE:GREGORIAN
BEGIN:VEVENT
DTSTART:20211201T163000Z
DTEND:20211218T010000Z
X-MICROSOFT-CDO-ALLDAYEVENT:FALSE
SUMMARY:L.A. CADA's Annual Holiday Toy Drive
DESCRIPTION:Helping Kids in our Communities\n\nPlease bring a Brand New Unwrapped Toy to the following location:\n\nYouth Prevention/Supportive Services\n\n10210 Orr and Day Rd.\, Suite B\n\nSanta Fe Springs\, CA 90670\n\n\n\nToys will be distributed to the kids at the\n\nAnnual Holiday Pancake Breakfast on\n\nTuesday\, December 21st.
X-ALT-DESC;FMTTYPE=text/html:<div style="text-align: center\;">Helping Kids in our Communities</div>\n\n<div style="text-align: center\;">Please bring a Brand New Unwrapped Toy to the following location:<br />\nYouth Prevention/Supportive Services<br />\n10210 Orr and Day Rd.\, Suite B<br />\nSanta Fe Springs\, CA 90670<br />\n<br />\nToys will be distributed to the kids at the<br />\nAnnual Holiday Pancake Breakfast on<br />\nTuesday\, December 21st.</div>\n
LOCATION:
UID:e.623.8520
SEQUENCE:3
DTSTAMP:20260420T202542Z
URL:https://business.sfschamber.com/events/details/l-a-cada-s-annual-holiday-toy-drive-8520
END:VEVENT

END:VCALENDAR
