BEGIN:VCALENDAR
VERSION:2.0
PRODID:-//ChamberMaster//Event Calendar 2.0//EN
METHOD:PUBLISH
X-PUBLISHED-TTL:P3D
REFRESH-INTERVAL:P3D
CALSCALE:GREGORIAN
BEGIN:VEVENT
DTSTART:20191021T170000Z
DTEND:20191021T210000Z
X-MICROSOFT-CDO-ALLDAYEVENT:FALSE
SUMMARY:Job Fair - DoubleTree Norwalk Hotel
DESCRIPTION:Job Fair at the DoubleTree by Hilton Los Angeles- Norwalk!\n\nPlease view our open positions\, and apply online. \n\nApplicants who apply online will be fast-tracked to immediately meet with hiring managers. Be prepared to bring your resumes with 3 professional references.\n\nWe look forward to meeting you at the job fair!\n\n\n\nTo Apply online Click Here
X-ALT-DESC;FMTTYPE=text/html:<div style="text-align: center\;"><span style="background-color:rgb(255\, 255\, 255)\; color:inherit\; font-family:inherit\; font-size:inherit"><span style="font-size:14px"><strong>Job Fair at the DoubleTree by Hilton Los Angeles- Norwalk!</strong></span></span></div>\n\n<div style="text-align: center\;"><span style="font-size:16px\;"><span style="background-color: rgb(255\, 255\, 255)\; color: inherit\; font-family: inherit\;">Please view our open positions\, and apply online.&nbsp\;</span><br />\nApplicants who apply online will be fast-tracked to immediately meet with hiring managers. Be prepared to bring your resumes with 3 professional references.<br />\n<em><strong><span style="background-color:rgb(255\, 255\, 255)\; color:inherit\; font-family:inherit">We look forward to meeting you at the job fair!<br />\n<br />\nTo Apply online </span><span style="background-color: rgb(255\, 255\, 255)\; font-family: inherit\;"><a href="https://www.interstatehotels.com/careers/"><span style="color:#FF0000\;">Click Here</span></a></span></strong></em></span></div>\n
LOCATION:DoubleTree Norwalk Hotel 13111 Sycamore Drive Norwalk\, CA 90650
UID:e.623.5902
SEQUENCE:3
DTSTAMP:20260419T224825Z
URL:https://business.sfschamber.com/events/details/job-fair-doubletree-norwalk-hotel-5902
END:VEVENT

END:VCALENDAR
