BEGIN:VCALENDAR
VERSION:2.0
PRODID:-//ChamberMaster//Event Calendar 2.0//EN
METHOD:PUBLISH
X-PUBLISHED-TTL:P3D
REFRESH-INTERVAL:P3D
CALSCALE:GREGORIAN
BEGIN:VEVENT
DTSTART:20220309T194500Z
DTEND:20220309T210000Z
X-MICROSOFT-CDO-ALLDAYEVENT:FALSE
SUMMARY:Executive Committee Meeting
DESCRIPTION:The Executive Committee meets bi-monthly. The committee is comprised of seven voting members--President\, Immediate Past President\, President-Elect\, divisional Vice Presidents\, and Treasurer. The President serves as head of the committee.
X-ALT-DESC;FMTTYPE=text/html:<br />\n<span style="font-size:16px\;"><span style="font-family:tahoma\;">The Executive Committee meets bi-monthly. The committee is comprised of&nbsp\;seven voting members--President\, Immediate Past President\, President-Elect\, divisional Vice Presidents\, and Treasurer. The President serves as head of the committee.</span></span><br />\n&nbsp\;
LOCATION:SFS Chamber Office 12016 Telegraph Rd. #100 SFS
UID:e.623.8158
SEQUENCE:3
DTSTAMP:20260424T234539Z
URL:https://business.sfschamber.com/events/details/executive-committee-meeting-8158
END:VEVENT

END:VCALENDAR
