BEGIN:VCALENDAR
VERSION:2.0
PRODID:-//ChamberMaster//Event Calendar 2.0//EN
METHOD:PUBLISH
X-PUBLISHED-TTL:P3D
REFRESH-INTERVAL:P3D
CALSCALE:GREGORIAN
BEGIN:VEVENT
DTSTART;VALUE=DATE:20191130
DTEND;VALUE=DATE:20191201
TRANSP:TRANSPARENT
X-MICROSOFT-CDO-ALLDAYEVENT:TRUE
SUMMARY:Clearman's Steak 'n Stein 73rd Anniversary Special
DESCRIPTION:In honor of Steak 'n Stein's opening in 1946\, we're offering a very special Prix Fixe Menu for only $46 per person for the whole month of November   a scrumptious 3-course menu with our renowned tableside service!\n\nCome and celebrate our 73rd Anniversary with us. Call us (562) 699-8823 or visit our website to make your reservation today!
X-ALT-DESC;FMTTYPE=text/html:In honor of Steak &lsquo\;n Stein&rsquo\;s opening in 1946\, we&rsquo\;re offering a very special Prix Fixe Menu for only $46 per person for the whole month of November &ndash\; a scrumptious 3-course menu with our renowned tableside service!<br />\nCome and celebrate our 73rd Anniversary with us. Call us (562) 699-8823 or <a href="https://clearmansrestaurants.com/steak-n-stein/">visit our website</a> to make your reservation today!
LOCATION:Clearman's Steak 'n Stein 9545 E. Whittier Blvd. Pico Rivera\, CA 90660
UID:e.623.5991
SEQUENCE:3
DTSTAMP:20260419T211829Z
URL:https://business.sfschamber.com/events/details/clearman-s-steak-n-stein-73rd-anniversary-special-5991
END:VEVENT

END:VCALENDAR
