BEGIN:VCALENDAR
VERSION:2.0
PRODID:-//ChamberMaster//Event Calendar 2.0//EN
METHOD:PUBLISH
X-PUBLISHED-TTL:P3D
REFRESH-INTERVAL:P3D
CALSCALE:GREGORIAN
BEGIN:VEVENT
DTSTART:20200122T163000Z
DTEND:20200122T173000Z
X-MICROSOFT-CDO-ALLDAYEVENT:FALSE
SUMMARY:Ambassador Meeting - January 2020
DESCRIPTION:This is a committee that plans networking events which includes coordinating and participating in monthly business card exchanges\, open houses\, ribbon cuttings and our yearly trade show.    Meetings are restricted to Ambassadors.  If you are interested in becoming an Ambassador or attending a meeting\, please contact the Chamber Office ....
X-ALT-DESC;FMTTYPE=text/html:<div style="color: gray\;"><span style="font-size:12px\;"><span style="font-family: verdana\;"><span style="color: rgb(0\, 0\, 0)\;">This is a committee that plans networking events&nbsp\;which includes coordinating and participating in monthly business card exchanges\, open houses\, ribbon cuttings and our yearly trade show.&nbsp\;&nbsp\;&nbsp\; Meetings are restricted to Ambassadors.&nbsp\; If you are interested in becoming an Ambassador or attending a meeting\, please contact the Chamber Office<span _fck_bookmark="1" style="display: none\;">&nbsp\;...</span>.</span></span></span></div>\n
LOCATION:Santa Fe Springs Chamber Office 12016 Telegraph Rd. #100 Santa Fe Springs
UID:e.623.5713
SEQUENCE:3
DTSTAMP:20260419T193536Z
URL:https://business.sfschamber.com/events/details/ambassador-meeting-january-2020-5713
END:VEVENT

END:VCALENDAR
